BEGIN:VCALENDAR
VERSION:2.0
PRODID:-//jEvents 2.0 for Joomla//EN
CALSCALE:GREGORIAN
METHOD:PUBLISH
BEGIN:VTIMEZONE
TZID:Europe/Berlin
BEGIN:STANDARD
DTSTART:20210205T140000
RDATE:20210328T030000
TZOFFSETFROM:+0200
TZOFFSETTO:+0100
TZNAME:Europe/Berlin CET
END:STANDARD
BEGIN:STANDARD
DTSTART:20211031T020000
RDATE:20220327T030000
TZOFFSETFROM:+0200
TZOFFSETTO:+0100
TZNAME:Europe/Berlin CET
END:STANDARD
BEGIN:STANDARD
DTSTART:20221030T020000
RDATE:20230326T030000
TZOFFSETFROM:+0200
TZOFFSETTO:+0100
TZNAME:Europe/Berlin CET
END:STANDARD
BEGIN:STANDARD
DTSTART:20231029T020000
RDATE:20240331T030000
TZOFFSETFROM:+0200
TZOFFSETTO:+0100
TZNAME:Europe/Berlin CET
END:STANDARD
BEGIN:STANDARD
DTSTART:20241027T020000
RDATE:20250330T030000
TZOFFSETFROM:+0200
TZOFFSETTO:+0100
TZNAME:Europe/Berlin CET
END:STANDARD
BEGIN:STANDARD
DTSTART:20251026T020000
RDATE:20260329T030000
TZOFFSETFROM:+0200
TZOFFSETTO:+0100
TZNAME:Europe/Berlin CET
END:STANDARD
BEGIN:STANDARD
DTSTART:20261025T020000
RDATE:20270328T030000
TZOFFSETFROM:+0200
TZOFFSETTO:+0100
TZNAME:Europe/Berlin CET
END:STANDARD
BEGIN:STANDARD
DTSTART:20271031T020000
RDATE:20280326T030000
TZOFFSETFROM:+0200
TZOFFSETTO:+0100
TZNAME:Europe/Berlin CET
END:STANDARD
BEGIN:STANDARD
DTSTART:20281029T020000
RDATE:20290325T030000
TZOFFSETFROM:+0200
TZOFFSETTO:+0100
TZNAME:Europe/Berlin CET
END:STANDARD
BEGIN:DAYLIGHT
DTSTART:20210328T030000
RDATE:20211031T020000
TZOFFSETFROM:+0100
TZOFFSETTO:+0200
TZNAME:Europe/Berlin CEST
END:DAYLIGHT
BEGIN:DAYLIGHT
DTSTART:20220327T030000
RDATE:20221030T020000
TZOFFSETFROM:+0100
TZOFFSETTO:+0200
TZNAME:Europe/Berlin CEST
END:DAYLIGHT
BEGIN:DAYLIGHT
DTSTART:20230326T030000
RDATE:20231029T020000
TZOFFSETFROM:+0100
TZOFFSETTO:+0200
TZNAME:Europe/Berlin CEST
END:DAYLIGHT
BEGIN:DAYLIGHT
DTSTART:20240331T030000
RDATE:20241027T020000
TZOFFSETFROM:+0100
TZOFFSETTO:+0200
TZNAME:Europe/Berlin CEST
END:DAYLIGHT
BEGIN:DAYLIGHT
DTSTART:20250330T030000
RDATE:20251026T020000
TZOFFSETFROM:+0100
TZOFFSETTO:+0200
TZNAME:Europe/Berlin CEST
END:DAYLIGHT
BEGIN:DAYLIGHT
DTSTART:20260329T030000
RDATE:20261025T020000
TZOFFSETFROM:+0100
TZOFFSETTO:+0200
TZNAME:Europe/Berlin CEST
END:DAYLIGHT
BEGIN:DAYLIGHT
DTSTART:20270328T030000
RDATE:20271031T020000
TZOFFSETFROM:+0100
TZOFFSETTO:+0200
TZNAME:Europe/Berlin CEST
END:DAYLIGHT
BEGIN:DAYLIGHT
DTSTART:20280326T030000
RDATE:20281029T020000
TZOFFSETFROM:+0100
TZOFFSETTO:+0200
TZNAME:Europe/Berlin CEST
END:DAYLIGHT
END:VTIMEZONE
BEGIN:VEVENT
UID:7bd6bccdb45796de61dfa1fb99361cc0
CATEGORIES:Gottesdienste
CREATED:20210126T105027
SUMMARY:Hauptfest im Mariendom zu Freising
LOCATION:Mariendom zu Freising
URL;VALUE=URI:https://mmc-freising.de/aktuelles/kalenderansicht/eventdetail/143/-/hauptfe
 st-im-mariendom-zu-freising?tmpl=component
DESCRIPTION:<p>Hauptfest in Mariendom in Freising mit Neuaufnahmen</p><p>&nbsp;</p><p><
 span class="s2">Hauptfest im Mariendom zu Freising</span></p><p>&nbsp;</p><
 p class="s6"><span class="s4">Hl. Messe mit Aufnahme der Neusodalen und Ehr
 ungen der&nbsp;</span></p><p class="s7"><span class="s4">Jubilare. Alle Fah
 nen- und Bannerträger sind herzlich eingeladen</span></p><p class="s8"><spa
 n class="s4"><a href="x-apple-data-detectors://4" dir="ltr" x-apple-data-de
 tectors="true" x-apple-data-detectors-type="calendar-event" x-apple-data-de
 tectors-result="4"></a><a href="x-apple-data-detectors://4" dir="ltr" x-app
 le-data-detectors="true" x-apple-data-detectors-type="calendar-event" x-app
 le-data-detectors-result="4"></a>&nbsp;13.</span><span class="s4">30 Uhr:&n
 bsp;</span><span class="s4">Treffen der Neusodalen am Eingang des Ka</span>
 <span class="s4">rdinal-Döpfner-Hauses&nbsp;</span><span class="s4">zur Ein
 weisung</span></p> <a href="https://mmc-freising.de/aktuelles/kalenderansic
 ht/eventdetail/143/-/hauptfest-im-mariendom-zu-freising?tmpl=component">Die
 ser Event wurde importiert von: https://mmc-freising.de/aktuelles/kalendera
 nsicht/eventdetail/143/-/hauptfest-im-mariendom-zu-freising?tmpl=component<
 /a>
X-ALT-DESC;FMTTYPE=text/html:<p>Hauptfest in Mariendom in Freising mit Neuaufnahmen</p><p>&nbsp;</p><p><
 span class="s2">Hauptfest im Mariendom zu Freising</span></p><p>&nbsp;</p><
 p class="s6"><span class="s4">Hl. Messe mit Aufnahme der Neusodalen und Ehr
 ungen der&nbsp;</span></p><p class="s7"><span class="s4">Jubilare. Alle Fah
 nen- und Bannerträger sind herzlich eingeladen</span></p><p class="s8"><spa
 n class="s4"><a href="https://mmc-freising.de/x-apple-data-detectors://4" d
 ir="ltr" x-apple-data-detectors="true" x-apple-data-detectors-type="calenda
 r-event" x-apple-data-detectors-result="4"></a><a href="https://mmc-freisin
 g.de/x-apple-data-detectors://4" dir="ltr" x-apple-data-detectors="true" x-
 apple-data-detectors-type="calendar-event" x-apple-data-detectors-result="4
 "></a>&nbsp;13.</span><span class="s4">30 Uhr:&nbsp;</span><span class="s4"
 >Treffen der Neusodalen am Eingang des Ka</span><span class="s4">rdinal-Döp
 fner-Hauses&nbsp;</span><span class="s4">zur Einweisung</span></p> <a href=
 "https://mmc-freising.de/aktuelles/kalenderansicht/eventdetail/143/-/hauptf
 est-im-mariendom-zu-freising?tmpl=component">Dieser Event wurde importiert 
 von: https://mmc-freising.de/aktuelles/kalenderansicht/eventdetail/143/-/ha
 uptfest-im-mariendom-zu-freising?tmpl=component</a>DTSTAMP:20260423T074831
DTSTART;TZID=Europe/Berlin:20220206T140000
SEQUENCE:0
TRANSP:OPAQUE
END:VEVENT
END:VCALENDAR